BEGIN:VCALENDAR
VERSION:2.0
PRODID:-//Stafford Consulting Company Inc. - ECPv6.15.16//NONSGML v1.0//EN
CALSCALE:GREGORIAN
METHOD:PUBLISH
X-WR-CALNAME:Stafford Consulting Company Inc.
X-ORIGINAL-URL:https://staffordconsultingcompany.com
X-WR-CALDESC:Events for Stafford Consulting Company Inc.
REFRESH-INTERVAL;VALUE=DURATION:PT1H
X-Robots-Tag:noindex
X-PUBLISHED-TTL:PT1H
BEGIN:VTIMEZONE
TZID:America/Chicago
BEGIN:DAYLIGHT
TZOFFSETFROM:-0600
TZOFFSETTO:-0500
TZNAME:CDT
DTSTART:20250309T080000
END:DAYLIGHT
BEGIN:STANDARD
TZOFFSETFROM:-0500
TZOFFSETTO:-0600
TZNAME:CST
DTSTART:20251102T070000
END:STANDARD
BEGIN:DAYLIGHT
TZOFFSETFROM:-0600
TZOFFSETTO:-0500
TZNAME:CDT
DTSTART:20260308T080000
END:DAYLIGHT
BEGIN:STANDARD
TZOFFSETFROM:-0500
TZOFFSETTO:-0600
TZNAME:CST
DTSTART:20261101T070000
END:STANDARD
BEGIN:DAYLIGHT
TZOFFSETFROM:-0600
TZOFFSETTO:-0500
TZNAME:CDT
DTSTART:20270314T080000
END:DAYLIGHT
BEGIN:STANDARD
TZOFFSETFROM:-0500
TZOFFSETTO:-0600
TZNAME:CST
DTSTART:20271107T070000
END:STANDARD
END:VTIMEZONE
BEGIN:VEVENT
DTSTART;VALUE=DATE:20260504
DTEND;VALUE=DATE:20260509
DTSTAMP:20260423T064652
CREATED:20260220T114800Z
LAST-MODIFIED:20260220T123434Z
UID:5498-1777852800-1778284799@staffordconsultingcompany.com
SUMMARY:FCR 201 - COR Level II
DESCRIPTION:This course is specifically designed for the COR who has attained FAC‑COR Level I certification and desires to increase their mastery of the FAC‑COR competencies. Students will gain the fundamental knowledge and skills necessary to perform the duties of a Contracting Officer’s Representative (COR) at a greater level of competency. They will gain an understanding of standards of conduct and ethics\, development of requirements documents\, contract documentation\, inspection procedures\, changes\, terminations\, and disputes. Students will navigate more complex acquisition situations than those typically encountered at the FAC‑COR Level I\, ranging from acquisition planning to issues with contractor performance. This course will aid students in the further development of critical thinking\, acquisition planning\, requirements definition\, contract modifications\, and contract administration skills necessary for successful contract performance. \n*All open enrollment courses run daily from 9am-5pm ET. \n\n  Contact us to Enroll!
URL:https://staffordconsultingcompany.com/events/fcr-201-cor-level-ii/
LOCATION:Adobe Connect
CATEGORIES:FAC-COR Courses
END:VEVENT
BEGIN:VEVENT
DTSTART;VALUE=DATE:20260513
DTEND;VALUE=DATE:20260523
DTSTAMP:20260423T064652
CREATED:20260220T131632Z
LAST-MODIFIED:20260220T131632Z
UID:5534-1778630400-1779494399@staffordconsultingcompany.com
SUMMARY:CON 1100 - Contract Foundational Skills
DESCRIPTION:This course is specifically designed for acquisition professionals and covers the contracting lifecycle and associated contracting principles\, understanding regulations including the Federal Acquisition Regulation and Agency-specific FAR supplements\, the construction of solicitations and contracts\, and fundamental guiding principles of the acquisition profession.   \nThis course is conducted as a hybrid of live and self-paced instruction with exercises\, case studies\, lecture\, and discussion facilitated by our Virtual instruction platform and  Learning Management System. \n*All open enrollment courses run daily from 9am-5pm ET. \n\n  Contact us to Enroll!
URL:https://staffordconsultingcompany.com/events/con-1100-contract-foundational-skills/
LOCATION:Adobe Connect
CATEGORIES:FAC-C Courses
END:VEVENT
BEGIN:VEVENT
DTSTART;VALUE=DATE:20260514
DTEND;VALUE=DATE:20260515
DTSTAMP:20260423T064652
CREATED:20260220T114429Z
LAST-MODIFIED:20260220T123400Z
UID:5496-1778716800-1778803199@staffordconsultingcompany.com
SUMMARY:FCR 110 - COR Level I
DESCRIPTION:This course is specifically designed to provide contracting professionals with the basic knowledge required to perform the tasks associated with a FAC‑COR Level I certification. The Contracting Officer’s Representative (COR) is essential to the efficient and effective management of acquisitions and serves as the eyes and ears of the Contracting Officer. Students will learn the fundamental knowledge and skills needed to perform their duties as a Level I COR\, including proper communication\, documentation\, contract monitoring\, payments\, and ethics. Participants will also gain a better understanding of the overall acquisition process. \n*All open enrollment courses run daily from 9am-5pm ET. \n\n  Contact us to Enroll!
URL:https://staffordconsultingcompany.com/events/fcr-110-cor-level-i/
LOCATION:Adobe Connect
END:VEVENT
BEGIN:VEVENT
DTSTART;VALUE=DATE:20260515
DTEND;VALUE=DATE:20260516
DTSTAMP:20260423T064652
CREATED:20260220T194720Z
LAST-MODIFIED:20260220T194720Z
UID:5542-1778803200-1778889599@staffordconsultingcompany.com
SUMMARY:COR Refresher (1-Day)
DESCRIPTION:This course is designed for experienced Contracting Officer’s Representatives (CORs). The 1‑Day COR Refresher reviews the requirements of the COR\, including knowledge related to COR roles and responsibilities; ethical and legal factors that impact COR responsibilities; and information necessary to effectively evaluate situations as a COR. \n*All open enrollment courses run daily from 9am-5pm ET. \n\n  Contact us to Enroll!
URL:https://staffordconsultingcompany.com/events/cor-refresher-1-day/
LOCATION:Adobe Connect
END:VEVENT
BEGIN:VEVENT
DTSTART;VALUE=DATE:20260518
DTEND;VALUE=DATE:20260523
DTSTAMP:20260423T064652
CREATED:20260220T130021Z
LAST-MODIFIED:20260220T193028Z
UID:5526-1779062400-1779494399@staffordconsultingcompany.com
SUMMARY:FCR 400 - Advanced COR Workshop (COR Level III)
DESCRIPTION:This course is designed for experienced Contracting Officer’s Representatives (CORs). The COR Level III: Advanced Workshop looks deeper into the requirements of the COR\, including knowledge related to COR roles and responsibilities; ethical and legal factors that impact COR responsibilities; and information necessary to effectively evaluate situations as a COR. More authentic exercises are given in the COR Level III: Advanced Workshop that are pertinent to an expert COR to help make correct decisions and carry out their responsibilities. \n*All open enrollment courses run daily from 9am-5pm ET. \n\n  Contact us to Enroll!
URL:https://staffordconsultingcompany.com/events/fcr-400-advanced-cor-workshop-cor-level-iii/
LOCATION:Adobe Connect
END:VEVENT
END:VCALENDAR