BEGIN:VCALENDAR
VERSION:2.0
PRODID:-//Stafford Consulting Company Inc. - ECPv6.15.16//NONSGML v1.0//EN
CALSCALE:GREGORIAN
METHOD:PUBLISH
X-ORIGINAL-URL:https://staffordconsultingcompany.com
X-WR-CALDESC:Events for Stafford Consulting Company Inc.
REFRESH-INTERVAL;VALUE=DURATION:PT1H
X-Robots-Tag:noindex
X-PUBLISHED-TTL:PT1H
BEGIN:VTIMEZONE
TZID:America/Chicago
BEGIN:DAYLIGHT
TZOFFSETFROM:-0600
TZOFFSETTO:-0500
TZNAME:CDT
DTSTART:20250309T080000
END:DAYLIGHT
BEGIN:STANDARD
TZOFFSETFROM:-0500
TZOFFSETTO:-0600
TZNAME:CST
DTSTART:20251102T070000
END:STANDARD
BEGIN:DAYLIGHT
TZOFFSETFROM:-0600
TZOFFSETTO:-0500
TZNAME:CDT
DTSTART:20260308T080000
END:DAYLIGHT
BEGIN:STANDARD
TZOFFSETFROM:-0500
TZOFFSETTO:-0600
TZNAME:CST
DTSTART:20261101T070000
END:STANDARD
BEGIN:DAYLIGHT
TZOFFSETFROM:-0600
TZOFFSETTO:-0500
TZNAME:CDT
DTSTART:20270314T080000
END:DAYLIGHT
BEGIN:STANDARD
TZOFFSETFROM:-0500
TZOFFSETTO:-0600
TZNAME:CST
DTSTART:20271107T070000
END:STANDARD
END:VTIMEZONE
BEGIN:VEVENT
DTSTART;VALUE=DATE:20260326
DTEND;VALUE=DATE:20260328
DTSTAMP:20260423T074413
CREATED:20260220T112522Z
LAST-MODIFIED:20260220T194905Z
UID:5482-1774483200-1774655999@staffordconsultingcompany.com
SUMMARY:Accessing and Recovering Troubled Projects
DESCRIPTION:In this course\, participants will examine ways to implement corrective action to get troubled projects back on track and successfully completed. One goal of this course is to have participants learn to handle both the human and process dimensions of successfully assessing and recovering challenged projects is key. Learners will be guided through activities to determine the symptoms of a challenged project\, create an assessment and recovery process\, and prevent future project failure through team exercises. \n*All open enrollment courses run daily from 9am-5pm ET. \n\n  Contact us to Enroll!
URL:https://staffordconsultingcompany.com/events/accessing-and-recovering-troubled-projects/
LOCATION:Adobe Connect
CATEGORIES:Electives
END:VEVENT
END:VCALENDAR