BEGIN:VCALENDAR
VERSION:2.0
PRODID:-//Stafford Consulting Company Inc. - ECPv6.15.16//NONSGML v1.0//EN
CALSCALE:GREGORIAN
METHOD:PUBLISH
X-WR-CALNAME:Stafford Consulting Company Inc.
X-ORIGINAL-URL:https://staffordconsultingcompany.com
X-WR-CALDESC:Events for Stafford Consulting Company Inc.
REFRESH-INTERVAL;VALUE=DURATION:PT1H
X-Robots-Tag:noindex
X-PUBLISHED-TTL:PT1H
BEGIN:VTIMEZONE
TZID:America/Chicago
BEGIN:DAYLIGHT
TZOFFSETFROM:-0600
TZOFFSETTO:-0500
TZNAME:CDT
DTSTART:20250309T080000
END:DAYLIGHT
BEGIN:STANDARD
TZOFFSETFROM:-0500
TZOFFSETTO:-0600
TZNAME:CST
DTSTART:20251102T070000
END:STANDARD
BEGIN:DAYLIGHT
TZOFFSETFROM:-0600
TZOFFSETTO:-0500
TZNAME:CDT
DTSTART:20260308T080000
END:DAYLIGHT
BEGIN:STANDARD
TZOFFSETFROM:-0500
TZOFFSETTO:-0600
TZNAME:CST
DTSTART:20261101T070000
END:STANDARD
BEGIN:DAYLIGHT
TZOFFSETFROM:-0600
TZOFFSETTO:-0500
TZNAME:CDT
DTSTART:20270314T080000
END:DAYLIGHT
BEGIN:STANDARD
TZOFFSETFROM:-0500
TZOFFSETTO:-0600
TZNAME:CST
DTSTART:20271107T070000
END:STANDARD
END:VTIMEZONE
BEGIN:VEVENT
DTSTART;VALUE=DATE:20260504
DTEND;VALUE=DATE:20260509
DTSTAMP:20260423T050514
CREATED:20260220T114800Z
LAST-MODIFIED:20260220T123434Z
UID:5498-1777852800-1778284799@staffordconsultingcompany.com
SUMMARY:FCR 201 - COR Level II
DESCRIPTION:This course is specifically designed for the COR who has attained FAC‑COR Level I certification and desires to increase their mastery of the FAC‑COR competencies. Students will gain the fundamental knowledge and skills necessary to perform the duties of a Contracting Officer’s Representative (COR) at a greater level of competency. They will gain an understanding of standards of conduct and ethics\, development of requirements documents\, contract documentation\, inspection procedures\, changes\, terminations\, and disputes. Students will navigate more complex acquisition situations than those typically encountered at the FAC‑COR Level I\, ranging from acquisition planning to issues with contractor performance. This course will aid students in the further development of critical thinking\, acquisition planning\, requirements definition\, contract modifications\, and contract administration skills necessary for successful contract performance. \n*All open enrollment courses run daily from 9am-5pm ET. \n\n  Contact us to Enroll!
URL:https://staffordconsultingcompany.com/events/fcr-201-cor-level-ii/
LOCATION:Adobe Connect
CATEGORIES:FAC-COR Courses
END:VEVENT
END:VCALENDAR